BEGIN:VCALENDAR
VERSION:2.0
PRODID:-//SC Preussen 06 Lengerich - W&amp;H-Cup - ECPv6.15.18//NONSGML v1.0//EN
CALSCALE:GREGORIAN
METHOD:PUBLISH
X-ORIGINAL-URL:https://wuh-cup.de
X-WR-CALDESC:Veranstaltungen für SC Preussen 06 Lengerich - W&amp;H-Cup
REFRESH-INTERVAL;VALUE=DURATION:PT1H
X-Robots-Tag:noindex
X-PUBLISHED-TTL:PT1H
BEGIN:VTIMEZONE
TZID:Europe/Amsterdam
BEGIN:DAYLIGHT
TZOFFSETFROM:+0100
TZOFFSETTO:+0200
TZNAME:CEST
DTSTART:20260329T010000
END:DAYLIGHT
BEGIN:STANDARD
TZOFFSETFROM:+0200
TZOFFSETTO:+0100
TZNAME:CET
DTSTART:20261025T010000
END:STANDARD
BEGIN:DAYLIGHT
TZOFFSETFROM:+0100
TZOFFSETTO:+0200
TZNAME:CEST
DTSTART:20270328T010000
END:DAYLIGHT
BEGIN:STANDARD
TZOFFSETFROM:+0200
TZOFFSETTO:+0100
TZNAME:CET
DTSTART:20271031T010000
END:STANDARD
BEGIN:DAYLIGHT
TZOFFSETFROM:+0100
TZOFFSETTO:+0200
TZNAME:CEST
DTSTART:20280326T010000
END:DAYLIGHT
BEGIN:STANDARD
TZOFFSETFROM:+0200
TZOFFSETTO:+0100
TZNAME:CET
DTSTART:20281029T010000
END:STANDARD
END:VTIMEZONE
BEGIN:VEVENT
DTSTART;TZID=Europe/Amsterdam:20270116T110000
DTEND;TZID=Europe/Amsterdam:20270116T200000
DTSTAMP:20260421T134508
CREATED:20260403T131623Z
LAST-MODIFIED:20260403T131623Z
UID:2273-1800097200-1800129600@wuh-cup.de
SUMMARY:W&H-Cup 2027
DESCRIPTION:
URL:https://wuh-cup.de/event/wh-cup-2027/
LOCATION:Dreifachsporthalle Lengerich\, Eduard Lagemann Straße 1\, Lengerich\, NRW\, 49525\, Deutschland
END:VEVENT
END:VCALENDAR